BEGIN:VCALENDAR
VERSION:2.0
PRODID:-//Die Bunten - ECPv6.15.18//NONSGML v1.0//EN
CALSCALE:GREGORIAN
METHOD:PUBLISH
X-WR-CALNAME:Die Bunten
X-ORIGINAL-URL:https://www.diebunten.info
X-WR-CALDESC:Veranstaltungen für Die Bunten
REFRESH-INTERVAL;VALUE=DURATION:PT1H
X-Robots-Tag:noindex
X-PUBLISHED-TTL:PT1H
BEGIN:VTIMEZONE
TZID:Europe/Berlin
BEGIN:DAYLIGHT
TZOFFSETFROM:+0100
TZOFFSETTO:+0200
TZNAME:CEST
DTSTART:20250330T010000
END:DAYLIGHT
BEGIN:STANDARD
TZOFFSETFROM:+0200
TZOFFSETTO:+0100
TZNAME:CET
DTSTART:20251026T010000
END:STANDARD
BEGIN:DAYLIGHT
TZOFFSETFROM:+0100
TZOFFSETTO:+0200
TZNAME:CEST
DTSTART:20260329T010000
END:DAYLIGHT
BEGIN:STANDARD
TZOFFSETFROM:+0200
TZOFFSETTO:+0100
TZNAME:CET
DTSTART:20261025T010000
END:STANDARD
BEGIN:DAYLIGHT
TZOFFSETFROM:+0100
TZOFFSETTO:+0200
TZNAME:CEST
DTSTART:20270328T010000
END:DAYLIGHT
BEGIN:STANDARD
TZOFFSETFROM:+0200
TZOFFSETTO:+0100
TZNAME:CET
DTSTART:20271031T010000
END:STANDARD
END:VTIMEZONE
BEGIN:VEVENT
DTSTART;TZID=Europe/Berlin:20260321T110000
DTEND;TZID=Europe/Berlin:20260321T120000
DTSTAMP:20260425T142338
CREATED:20260310T164007Z
LAST-MODIFIED:20260310T174544Z
UID:7015-1774090800-1774094400@www.diebunten.info
SUMMARY:Wenn der Lenz die Saiten küsst
DESCRIPTION:in musikalischer Vormittag mit Liedern rund um den Frühling zum MitsingenPünktlich zum Frühlingsanfang lassen wir gemeinsam die Saiten klingen! \n\n\n\nDas Tischharfenorchester Augsburg spielt für Sie die schönsten und bekanntesten Frühlingslieder.Das Besondere: Wir hören nicht nur zu\, wir singen gemeinsam! Die sanften Klänge der Tischharfen begleiten uns dabei und sorgen für eine wunderbare\, herzliche Atmosphäre. \n\n\n\n• Was: Gemeinsames Singen bekannter Frühlingslieder• Musik: Tischharfenorchester Augsburg• Stimmung: Fröhlich\, gesellig und voller Vorfreude auf die Sonne \n\n\n\nKommen Sie vorbei\, stimmen Sie mit ein und genießen Sie den Start in die bunte Jahreszeit. Wir freuen uns auf Ihre Stimme! \n\n\n\nEs findet statt am 21.März 2026 um 11:00 Uhr im Augustanasaal im Annahof \n\n\n\nDer Eintritt ist frei \n\n\n\n\n\n\n\n\n\n\n\n\n\n\n00
URL:https://www.diebunten.info/event/wenn-der-lenz-die-saiten-kuesst/
LOCATION:Augustanasaal\, Augustanasaal Im Annahof 4\, Augsburg\, 86150\, Germany
CATEGORIES:Tischharfenkonzert
END:VEVENT
BEGIN:VEVENT
DTSTART;TZID=Europe/Berlin:20260321T160000
DTEND;TZID=Europe/Berlin:20260321T170000
DTSTAMP:20260425T142338
CREATED:20260310T164607Z
LAST-MODIFIED:20260310T164609Z
UID:7019-1774108800-1774112400@www.diebunten.info
SUMMARY:🪗 Balg & Beat: Die Bühne gehört dem Nachwuchs!
DESCRIPTION:Das Jahr 2026 ist das Jahr des Akkordeons – und wer könnte dieses Instrument besser feiern als die nächste Generation? \n\n\n\nAm Samstag\, den 21. März um 16:00 Uhr\, laden wir euch zu einem ganz besonderen Konzert in den Augustanasaal ein. Diesmal steht nicht das gesamte Orchester „Die Bunten“ im Rampenlicht\, sondern die Bühne gehört ganz allein den Schülerinnen und Schülern der Akkordeonklasse von Angelika Jekic. \n\n\n\nVon den ersten musikalischen Schritten bis hin zu anspruchsvollen Vortragsstücken: Die jungen Talente zeigen die ganze Bandbreite dieses vielseitigen Instruments. Es ist eine wunderbare Gelegenheit\, die Spielfreude und den Fleiß der Schüler in der tollen Akustik des Augustanasaals live zu erleben. \n\n\n\n \n\n\n\n\n\n\n\n\n\n\n00
URL:https://www.diebunten.info/event/%f0%9f%aa%97-balg-beat-die-buehne-gehoert-dem-nachwuchs/
LOCATION:Augustanasaal\, Augustanasaal Im Annahof 4\, Augsburg\, 86150\, Germany
CATEGORIES:Konzert
END:VEVENT
END:VCALENDAR