BEGIN:VCALENDAR
VERSION:2.0
PRODID:-//Die Bunten - ECPv6.15.18//NONSGML v1.0//EN
CALSCALE:GREGORIAN
METHOD:PUBLISH
X-ORIGINAL-URL:https://www.diebunten.info
X-WR-CALDESC:Veranstaltungen für Die Bunten
REFRESH-INTERVAL;VALUE=DURATION:PT1H
X-Robots-Tag:noindex
X-PUBLISHED-TTL:PT1H
BEGIN:VTIMEZONE
TZID:Europe/Berlin
BEGIN:DAYLIGHT
TZOFFSETFROM:+0100
TZOFFSETTO:+0200
TZNAME:CEST
DTSTART:20250330T010000
END:DAYLIGHT
BEGIN:STANDARD
TZOFFSETFROM:+0200
TZOFFSETTO:+0100
TZNAME:CET
DTSTART:20251026T010000
END:STANDARD
BEGIN:DAYLIGHT
TZOFFSETFROM:+0100
TZOFFSETTO:+0200
TZNAME:CEST
DTSTART:20260329T010000
END:DAYLIGHT
BEGIN:STANDARD
TZOFFSETFROM:+0200
TZOFFSETTO:+0100
TZNAME:CET
DTSTART:20261025T010000
END:STANDARD
BEGIN:DAYLIGHT
TZOFFSETFROM:+0100
TZOFFSETTO:+0200
TZNAME:CEST
DTSTART:20270328T010000
END:DAYLIGHT
BEGIN:STANDARD
TZOFFSETFROM:+0200
TZOFFSETTO:+0100
TZNAME:CET
DTSTART:20271031T010000
END:STANDARD
END:VTIMEZONE
BEGIN:VEVENT
DTSTART;TZID=Europe/Berlin:20260510T110000
DTEND;TZID=Europe/Berlin:20260510T120000
DTSTAMP:20260425T142511
CREATED:20260310T164851Z
LAST-MODIFIED:20260421T123113Z
UID:7021-1778410800-1778414400@www.diebunten.info
SUMMARY:Uraufführung Mein Augsburg
DESCRIPTION:Im Rahmen der Europawochen\, Sonntag\, 10. Mai um 11 Uhr im Rokoko-Festsaal im Schaezlerpalais \n\n\n\nWir rechnen mit sehr viele ZuhörerInnen. Deshalb gibt es um 15:00 ein Zusatzkonzert. \n\n\n\nErleben Sie eine Uraufführung der besonderen Art.Das Inklusionsorchester unterstützt vom Kinderchor lädt herzlich zu einem unvergesslichen Konzertabend ein. \n\n\n\nIm Mittelpunkt steht die eigens für diesen Anlass von Hans-Jürgen Gerung komponierte mehrsätzige Suite „Augsburg Meine Stadt“. Lassen Sie sich überraschen\, wie die verschiedenen Facetten unserer Fuggerstadt musikalisch zum Leben erweckt werden. \n\n\n\nWir freuen uns sehr\, dass Oberbürgermeister Dr. Florian Freund die Schirmherrschaft für dieses Projekt übernommen hat. \n\n\n\nGegen eine kleine Spende erhalten Sie einen reservierten Sitzplatz. So geht es. \n\n\n\n\n\n\n\n\n\n\n\n\n\n\n00
URL:https://www.diebunten.info/event/urauffuehrung-mein-augsburg/
LOCATION:Schaezlerpalais\, Maximilianstraße 46\, Augsburg\, 86150
CATEGORIES:Inklusionskonzert
END:VEVENT
BEGIN:VEVENT
DTSTART;TZID=Europe/Berlin:20260510T150000
DTEND;TZID=Europe/Berlin:20260510T160000
DTSTAMP:20260425T142511
CREATED:20260310T165203Z
LAST-MODIFIED:20260421T123037Z
UID:7028-1778425200-1778428800@www.diebunten.info
SUMMARY:Uraufführung Mein Augsburg
DESCRIPTION:Erleben Sie eine Uraufführung der besonderen Art.Das Inklusionsorchester unterstützt vom Kinderchor lädt herzlich zu einem unvergesslichen Konzertabend ein. \n\n\n\nIm Mittelpunkt steht die eigens für diesen Anlass von Hans-Jürgen Gerung komponierte mehrsätzige Suite „Augsburg Meine Stadt“. Lassen Sie sich überraschen\, wie die verschiedenen Facetten unserer Fuggerstadt musikalisch zum Leben erweckt werden. \n\n\n\nWir freuen uns sehr\, dass Oberbürgermeister Dr. Florian Freund die Schirmherrschaft für dieses Projekt übernommen hat. \n\n\n\nGegen eine kleine Spende erhalten Sie einen reservierten Sitzplatz. So geht es. \n\n\n\n\n\n\n\n \n\n\n\n\n\n\n\n\n\n\n00
URL:https://www.diebunten.info/event/urauffuehrung-mein-augsburg-2/
LOCATION:Schaezlerpalais\, Maximilianstraße 46\, Augsburg\, 86150
CATEGORIES:Inklusionskonzert
END:VEVENT
END:VCALENDAR